BEGIN:VCALENDAR
PRODID:-//AT Content Types//AT Event//EN
VERSION:1.0
BEGIN:VEVENT
DTSTART:20080709T003000Z
DTEND:20080709T030000Z
DCREATED:20080623T182319Z
UID:ATEvent-331385c0-8aaf-4993-9f1b-ee5847d036b8
SEQUENCE:0
LAST-MODIFIED:20080623T182319Z
SUMMARY:July 5 - Astronomy Program at sunset
DESCRIPTION:"The Stars of Summer"
LOCATION:FENCE Grounds
PRIORITY:3
TRANSP:0
END:VEVENT
END:VCALENDAR
