BEGIN:VCALENDAR
PRODID:-//AT Content Types//AT Event//EN
VERSION:2.0
METHOD:PUBLISH
BEGIN:VEVENT
DTSTAMP:20260423T191509Z
CREATED:20091215T193304Z
UID:ATEvent-17d253e0-a0a3-40c8-92ab-84563aae3bb4
LAST-MODIFIED:20091219T194945Z
SUMMARY:July 5-9: FENCE Summer Day Camp
DTSTART:20100705T123000Z
DTEND:20100709T163000Z
DESCRIPTION:"Nature and Earth" Camp. For ages 5 - 12.
LOCATION:FENCE Grounds
CONTACT:Tracie Hanson\, 828-859-9021\, natureeducation@fence.org
URL:http://www.fence.org/Camps
CLASS:PUBLIC
END:VEVENT
END:VCALENDAR
