BEGIN:VCALENDAR
PRODID:-//AT Content Types//AT Event//EN
VERSION:1.0
BEGIN:VEVENT
DTSTART:20100726T120000Z
DTEND:20100731T210000Z
DCREATED:20091215T194408Z
UID:ATEvent-b89fd844-eae9-4cfe-95ac-9f70d5ed3d3c
SEQUENCE:0
LAST-MODIFIED:20091219T195211Z
SUMMARY:July 26-31: Junior Master Naturalist Program
DESCRIPTION:Certification program for junior (high school level) Maste
 r Naturalists.
LOCATION:FENCE Center & Grounds
PRIORITY:3
TRANSP:0
END:VEVENT
END:VCALENDAR
