BEGIN:VCALENDAR
PRODID:-//AT Content Types//AT Event//EN
VERSION:1.0
BEGIN:VEVENT
DTSTART:20100723T110000Z
DTEND:20100726T210000Z
DCREATED:20091215T194607Z
UID:ATEvent-edf126f1-1896-4399-862e-016463fb1250
SEQUENCE:0
LAST-MODIFIED:20091219T010946Z
SUMMARY:July 23-26: Ricky Quinn Horsemanship Clini
DESCRIPTION:Spectators welcome. No charge.
LOCATION:Equestrian Center
PRIORITY:3
TRANSP:0
END:VEVENT
END:VCALENDAR
