BEGIN:VCALENDAR
PRODID:-//AT Content Types//AT Event//EN
VERSION:2.0
METHOD:PUBLISH
BEGIN:VEVENT
DTSTAMP:20260423T115935Z
CREATED:20091215T194150Z
UID:ATEvent-4efdc833-6134-4c7d-8bae-412d235b5deb
LAST-MODIFIED:20091219T195146Z
SUMMARY:July 19-24: Nature Educator In-Service Training
DTSTART:20100719T120000Z
DTEND:20100724T210000Z
DESCRIPTION:Curriculum training for the classroom.
LOCATION:FENCE Center & Grounds
CATEGORIES:Nature Program
CONTACT:Tracie Hanson\, 828-859-9021\, natureeducation@fence.org
CLASS:PUBLIC
END:VEVENT
END:VCALENDAR
