BEGIN:VCALENDAR
PRODID:-//AT Content Types//AT Event//EN
VERSION:2.0
METHOD:PUBLISH
BEGIN:VEVENT
DTSTAMP:20260421T134854Z
CREATED:20091215T193853Z
UID:ATEvent-edfbc93a-c55a-4524-8f5f-1d5c2a500699
LAST-MODIFIED:20091219T010927Z
SUMMARY:July 18 - FENCE Cross-Country Schooling
DTSTART:20100718T120000Z
DTEND:20100718T200000Z
LOCATION:Cross-Country Course
CATEGORIES:Schooling
CONTACT:Melissa LeRoy\, 828-859-9021\, horseshow@fence.org
CLASS:PUBLIC
END:VEVENT
END:VCALENDAR
