BEGIN:VCALENDAR
PRODID:-//AT Content Types//AT Event//EN
VERSION:2.0
METHOD:PUBLISH
BEGIN:VEVENT
DTSTAMP:20260421T110842Z
CREATED:20091215T193725Z
UID:ATEvent-22a57768-b7d1-4484-ad70-2c6cf7617f6b
LAST-MODIFIED:20091219T010900Z
SUMMARY:July 17 - FRC Schooling Dressage & Stadium
DTSTART:20100717T110000Z
DTEND:20100717T210000Z
LOCATION:Equestrian Center
CATEGORIES:Schooling
CONTACT:Margo Savage\, 828-863-4924
URL:http://www.foothillsridingclub.org
CLASS:PUBLIC
END:VEVENT
END:VCALENDAR
