BEGIN:VCALENDAR
PRODID:-//AT Content Types//AT Event//EN
VERSION:1.0
BEGIN:VEVENT
DTSTART:20100716T233000Z
DTEND:20100717T010000Z
DCREATED:20100516T014633Z
UID:ATEvent-d45afbe1-4f6c-4d65-9908-e9878b82b080
SEQUENCE:0
LAST-MODIFIED:20100516T014633Z
SUMMARY:July 16: Foothills Astronomical Society
DESCRIPTION:Regular monthly club meeting. All invited. Enter through r
 ear of FENCE Center.
LOCATION:FENCE Center
PRIORITY:3
TRANSP:0
END:VEVENT
END:VCALENDAR
