BEGIN:VCALENDAR
PRODID:-//AT Content Types//AT Event//EN
VERSION:1.0
BEGIN:VEVENT
DTSTART:20100712T120000Z
DTEND:20100716T210000Z
DCREATED:20091215T193519Z
UID:ATEvent-e190c0d0-2952-418f-a89a-09754e526a3e
SEQUENCE:0
LAST-MODIFIED:20091219T195118Z
SUMMARY:July 12 -16: FENCE Summer Day Camp
DESCRIPTION:All-day natural history and survival skills camp. For ages
  6-12.
LOCATION:FENCE Grounds
PRIORITY:3
TRANSP:0
END:VEVENT
END:VCALENDAR
