BEGIN:VCALENDAR
PRODID:-//AT Content Types//AT Event//EN
VERSION:1.0
BEGIN:VEVENT
DTSTART:20100711T003000Z
DTEND:20100711T030000Z
DCREATED:20100515T220241Z
UID:ATEvent-36f77551-2d48-4f31-bd1b-3769bb907551
SEQUENCE:0
LAST-MODIFIED:20100515T220241Z
SUMMARY:July 10: Astronomy Program at Sunset
DESCRIPTION:Venus shines at its best and brightest. Walk to the top of
  Hawk Ridge\, behind the FENCE Center. Free program\, and telescopes p
 rovided.
LOCATION:FENCE Center Area/Hawk Ridge
PRIORITY:3
TRANSP:0
END:VEVENT
END:VCALENDAR
