BEGIN:VCALENDAR
PRODID:-//AT Content Types//AT Event//EN
VERSION:1.0
BEGIN:VEVENT
DTSTART:20200829T120000Z
DTEND:20200829T210000Z
DCREATED:20200110T212413Z
UID:ATEvent-fd8f6e8419cc423fa97d7714f7146ab2
SEQUENCE:0
LAST-MODIFIED:20200110T212413Z
SUMMARY:JTO Horse Clinic
LOCATION:FENCE Equestrian Side
PRIORITY:3
TRANSP:0
END:VEVENT
END:VCALENDAR
