BEGIN:VCALENDAR
PRODID:-//AT Content Types//AT Event//EN
VERSION:2.0
METHOD:PUBLISH
BEGIN:VEVENT
DTSTAMP:20260423T115009Z
CREATED:20210629T155511Z
UID:ATEvent-0d5c731cd69f446385156a028a3d8cba
LAST-MODIFIED:20210629T155511Z
SUMMARY:JTO Clinic
DTSTART:20210828T120000Z
DTEND:20210829T210000Z
LOCATION:FENCE Equestrian Side
CATEGORIES:Clinic
CLASS:PUBLIC
END:VEVENT
END:VCALENDAR
