BEGIN:VCALENDAR
PRODID:-//AT Content Types//AT Event//EN
VERSION:2.0
METHOD:PUBLISH
BEGIN:VEVENT
DTSTAMP:20260423T115209Z
CREATED:20220128T182909Z
UID:ATEvent-ff6a21aca88e40ddab06492e0d16f19b
LAST-MODIFIED:20220128T182909Z
SUMMARY:JTO Clinic
DTSTART:20220827T120000Z
DTEND:20220828T210000Z
LOCATION:FENCE Equestrian side
CATEGORIES:Clinic
CLASS:PUBLIC
END:VEVENT
END:VCALENDAR
