BEGIN:VCALENDAR
PRODID:-//AT Content Types//AT Event//EN
VERSION:2.0
METHOD:PUBLISH
BEGIN:VEVENT
DTSTAMP:20260423T114909Z
CREATED:20101206T165452Z
UID:ATEvent-350e0cf8-8cf0-46ae-96d0-22dfe598f30b
LAST-MODIFIED:20101206T165452Z
SUMMARY:January 8: Astronomy Program at sunset
DTSTART:20110108T223000Z
DTEND:20110109T020000Z
DESCRIPTION:"Orion & The Stars of Winter". Meet at the top of Hawk Rid
 ge\, behind the FENCE Center. Telescopes provided. Free program presen
 ted by the Foothills Astronomical Society.
LOCATION:Hawk Ridge
CATEGORIES:Nature/Astronomy
CONTACT:Jim Cooper\, 828-859-8342
CLASS:PUBLIC
END:VEVENT
END:VCALENDAR
