BEGIN:VCALENDAR
PRODID:-//AT Content Types//AT Event//EN
VERSION:1.0
BEGIN:VEVENT
DTSTART:20110122T003000Z
DTEND:20110122T023000Z
DCREATED:20101206T170517Z
UID:ATEvent-e4b805d9-13d8-4741-a5db-1fb91c9af8a9
SEQUENCE:0
LAST-MODIFIED:20101206T170517Z
SUMMARY:January 21: Foothills Astronomical Society Meeting
DESCRIPTION:Regular monthly club meeting. All invited. Enter through r
 ear of FENCE Center.
LOCATION:FENCE Center
PRIORITY:3
TRANSP:0
END:VEVENT
END:VCALENDAR
