BEGIN:VCALENDAR
PRODID:-//AT Content Types//AT Event//EN
VERSION:2.0
METHOD:PUBLISH
BEGIN:VEVENT
DTSTAMP:20260423T131926Z
CREATED:20101208T215933Z
UID:ATEvent-1e94eca5-ea2c-41a3-80f1-3a913fa36644
LAST-MODIFIED:20101222T163009Z
SUMMARY:January 16: Family Concert\, 4pm
DTSTART:20110116T210000Z
DTEND:20110116T230000Z
DESCRIPTION:Dashboard Blue plays your favorites from the sixties and s
 eventies. Visit www.dashboardblue.com to learn more. Free program.
LOCATION:Great Room
CATEGORIES:Family
CONTACT:828-859-9021\, info@fence.org
CLASS:PUBLIC
END:VEVENT
END:VCALENDAR
