BEGIN:VCALENDAR
PRODID:-//AT Content Types//AT Event//EN
VERSION:1.0
BEGIN:VEVENT
DTSTART:20110123T210000Z
DTEND:20110123T223000Z
DCREATED:20101208T220148Z
UID:ATEvent-89be22e6-23bd-4451-a4aa-19275791408f
SEQUENCE:0
LAST-MODIFIED:20101208T220148Z
SUMMARY:Jan. 23: The Armchair Traveler\, 4pm
DESCRIPTION:Join ornithologist Simon Thompson for "Birdwatching Across
  The Planet". Free program.
LOCATION:Great Room
PRIORITY:3
TRANSP:0
END:VEVENT
END:VCALENDAR
