BEGIN:VCALENDAR
PRODID:-//AT Content Types//AT Event//EN
VERSION:2.0
METHOD:PUBLISH
BEGIN:VEVENT
DTSTAMP:20260423T114825Z
CREATED:20091124T171733Z
UID:ATEvent-fb980630-b3d4-424e-a265-f46ff9df8844
LAST-MODIFIED:20091219T180123Z
SUMMARY:Jan. 16: Astronomy Program at sunset
DTSTART:20100116T233000Z
DTEND:20100117T040000Z
DESCRIPTION:Mars\, at its brightest in January. Program takes place on
  the hill behind our main building. Telescopes provided. No program in
  case of rain or heavy cloud cover.
LOCATION:Hawk Ridge\, FENCE Center
CATEGORIES:Nature/Astronomy
CONTACT:828-859-8342
CLASS:PUBLIC
END:VEVENT
END:VCALENDAR
