BEGIN:VCALENDAR
PRODID:-//AT Content Types//AT Event//EN
VERSION:2.0
METHOD:PUBLISH
BEGIN:VEVENT
DTSTAMP:20260423T171159Z
CREATED:20091124T171945Z
UID:ATEvent-c810087b-a2f1-4a54-b4b7-d31b77ac6cc2
LAST-MODIFIED:20091219T180112Z
SUMMARY:Jan. 15: Foothills Astronomical Society Meeting
DTSTART:20100116T003000Z
DTEND:20100116T020000Z
DESCRIPTION:Public welcome. Enter through back of main FENCE building.
 
LOCATION:FENCE Center
CATEGORIES:Nature/Astronomy
CONTACT:828-859-8342
CLASS:PUBLIC
END:VEVENT
END:VCALENDAR
