BEGIN:VCALENDAR
PRODID:-//AT Content Types//AT Event//EN
VERSION:2.0
METHOD:PUBLISH
BEGIN:VEVENT
DTSTAMP:20260423T115048Z
CREATED:20250911T172809Z
UID:ATEvent-048310c488be4342ae4cef62c8b8d162
LAST-MODIFIED:20250911T172835Z
SUMMARY:IHSA Horse Show
DTSTART:20251003T120000Z
DTEND:20251005T210000Z
LOCATION:FENCE EQ Side
CATEGORIES:Horse Show
CLASS:PUBLIC
END:VEVENT
END:VCALENDAR
