BEGIN:VCALENDAR
PRODID:-//AT Content Types//AT Event//EN
VERSION:2.0
METHOD:PUBLISH
BEGIN:VEVENT
DTSTAMP:20260423T115209Z
CREATED:20190807T200637Z
UID:ATEvent-93ec1f55eda24cf28c8e80d48ea6f1d4
LAST-MODIFIED:20190807T200638Z
SUMMARY:Is it Time for a Gut Check?
DTSTART:20190815T220000Z
DTEND:20190816T000000Z
DESCRIPTION:Join Hunt Country Equine for an educational event focusing
  on Equine Gastric Ulcer Syndrome. Dr Hoyt Cheramie of Boehringer-Inge
 lheim will be discussing the diagnosis\, treatment\, and prevention of
  this issue that can affect all our horses. Questions are encouraged! 
  Dinner and raffle will be provided! Kindly RSVP to info@huntcountryeq
 uine.com by 8/10/19
LOCATION:FENCE Center
CATEGORIES:Training
CLASS:PUBLIC
END:VEVENT
END:VCALENDAR
