BEGIN:VCALENDAR
PRODID:-//AT Content Types//AT Event//EN
VERSION:1.0
BEGIN:VEVENT
DTSTART:20150528T123000Z
DTEND:20150528T160000Z
DCREATED:20150429T151541Z
UID:ATEvent-51487558-279e-42cf-94cd-423a3aaba568
SEQUENCE:0
LAST-MODIFIED:20150429T151542Z
SUMMARY:Invasive Trail Work Day
DESCRIPTION:Volunteers needed!!! Please contact FENCE
LOCATION:FENCE Center
PRIORITY:3
TRANSP:0
END:VEVENT
END:VCALENDAR
