BEGIN:VCALENDAR
PRODID:-//AT Content Types//AT Event//EN
VERSION:2.0
METHOD:PUBLISH
BEGIN:VEVENT
DTSTAMP:20260423T114728Z
CREATED:20191028T144826Z
UID:ATEvent-0b411e905bbb47108613ced8f47459c0
LAST-MODIFIED:20191031T205228Z
SUMMARY:Invasive talk
DTSTART:20191123T160000Z
DTEND:20191123T173000Z
DESCRIPTION:We all love the climate in the Carolina foothills and unfo
 rtunately so do most of our most serious invasive plants. Plants such 
 as Tree of Heaven\, Kudzu\, Oriental Bittersweet\, Wisteria\, and Misc
 anthus grass are all exotic or non-native plants that when left unchec
 ked become serious weeds that are extremely difficult to control.
LOCATION:FENCE Center
CATEGORIES:Nature Program
CONTACT:828-859-9021\, info@fence.org
CLASS:PUBLIC
END:VEVENT
END:VCALENDAR
