BEGIN:VCALENDAR
PRODID:-//AT Content Types//AT Event//EN
VERSION:2.0
METHOD:PUBLISH
BEGIN:VEVENT
DTSTAMP:20260423T171145Z
CREATED:20130222T160755Z
UID:ATEvent-0994ee98-637e-461d-b72f-8a6569710cac
LAST-MODIFIED:20130318T161308Z
SUMMARY:Invasive Species Removal at FENCE
DTSTART:20130319T130000Z
DTEND:20130319T200000Z
DESCRIPTION:This invasive special removal work day that will be held o
 n the Wildwood\nTrail at FENCE.  Volunteers are needed\, so please con
 tact FENCE at\n828-859-9021 or education@fence.org.  Lunch and refresh
 ments will be\nprovided free of charge for all volunteers.
LOCATION:FENCE Center
CATEGORIES:Nature Program
CONTACT:Kristy Burja\, 828-859-9021\, info@fence.org
CLASS:PUBLIC
END:VEVENT
END:VCALENDAR
