BEGIN:VCALENDAR
PRODID:-//AT Content Types//AT Event//EN
VERSION:2.0
METHOD:PUBLISH
BEGIN:VEVENT
DTSTAMP:20260423T140847Z
CREATED:20120405T183101Z
UID:ATEvent-f4014ca3-0df5-48f4-a236-3e76c5fab152
LAST-MODIFIED:20120418T122242Z
SUMMARY:Invasive Plant Removal
DTSTART:20120418T130000Z
DTEND:20120418T200000Z
DESCRIPTION:Cancelled due to weather.  Please check back for reschedul
 e date in May.\nIn support of National Volunteer Week\, April 16th –
  20th\, FENCE is hosting an invasive species removal project. Invasive
  plants destroy countless acres of native habitat.  They often decreas
 e or eliminate the biodiversity that exist within these ecosystems.  R
 emoving invasives helps to restore that biodiversity.
LOCATION:FENCE House 3381 Hunting Country Rd. Tryon NC 28782
CATEGORIES:Nature Program
CONTACT:Kristy Burja\, 828-859-9021 ext 13\, education@fence.org
CLASS:PUBLIC
END:VEVENT
END:VCALENDAR
