BEGIN:VCALENDAR
PRODID:-//AT Content Types//AT Event//EN
VERSION:1.0
BEGIN:VEVENT
DTSTART:20260502T200000Z
DTEND:20260502T220000Z
DCREATED:20260210T014920Z
UID:ATEvent-96802dbd1e904a588fb923723157570a
SEQUENCE:0
LAST-MODIFIED:20260223T153309Z
SUMMARY:Intro to Birding Presentation
DESCRIPTION:Join Kevin Burke of Carolina Nature Tours for an informati
 onal talk on the popular hobby of watching birds.  Bird watching has e
 xploded as an fun and educational pastime for millions of people in th
 e U.S. and around the world.
LOCATION:FENCE Center
PRIORITY:3
TRANSP:0
END:VEVENT
END:VCALENDAR
