BEGIN:VCALENDAR
PRODID:-//AT Content Types//AT Event//EN
VERSION:1.0
BEGIN:VEVENT
DTSTART:20130617T123000Z
DTEND:20130621T163000Z
DCREATED:20130108T153207Z
UID:ATEvent-372cd0cc-9062-4c7a-acdd-374eed276c70
SEQUENCE:0
LAST-MODIFIED:20130108T153207Z
SUMMARY:Intermediate Horse Camp
DESCRIPTION:AGES (8-12) (8:30-12:30) $150.00\nMUST HAVE ATTENDED AT LE
 AST ONE SESSION OF BEGINNERS HORSE CAMP OR CONTACT FENCE FOR APPROVAL\
 nLimited to 25 Campers
PRIORITY:3
TRANSP:0
END:VEVENT
END:VCALENDAR
