BEGIN:VCALENDAR
PRODID:-//AT Content Types//AT Event//EN
VERSION:2.0
METHOD:PUBLISH
BEGIN:VEVENT
DTSTAMP:20260423T140042Z
CREATED:20150324T191340Z
UID:ATEvent-f1964761-b0e3-4ea4-8b7f-d56a691c5c6b
LAST-MODIFIED:20150324T191340Z
SUMMARY:Intermediate Horse Camp
DTSTART:20150622T123000Z
DTEND:20150626T163000Z
DESCRIPTION:AGES (8-12) 8:30-12:30  $175.00\nMUST HAVE ATTENDED AT LEA
 ST ONE SESSION OF BEGINNERS HORSE CAMP OR CONTACT FENCE FOR APPROVAL
CATEGORIES:Family
CONTACT:Tracie Hanson\, 8288599021\, natureeducation@fence.org
CLASS:PUBLIC
END:VEVENT
END:VCALENDAR
