BEGIN:VCALENDAR
PRODID:-//AT Content Types//AT Event//EN
VERSION:2.0
METHOD:PUBLISH
BEGIN:VEVENT
DTSTAMP:20260423T115009Z
CREATED:20140414T184411Z
UID:ATEvent-142ceedd-dabf-49b6-84f2-12c4957f5fc8
LAST-MODIFIED:20140414T184501Z
SUMMARY:Intermediate Horse Camp
DTSTART:20140623T123000Z
DTEND:20140627T163000Z
DESCRIPTION:Ages 8 through 12\, begins on June 23 with the last day on
  June 27.  Sessions start at 8:30 AM and end at 12:30 PM\, with a cost
  of $150 per camper.  For this class campers must have attended at lea
 st one full session of beginner’s horse camp (listed above) or have 
 received prior approval from FENCE. This class is also limited to 25 c
 ampers. Please call 828-859-9021 and ask for Tracie Hanson or consult 
 www.FENCE.org.
LOCATION:FENCE EQ side
CATEGORIES:Family
CONTACT:Tracie Hanson\, 8288599021\, natureeducation@fence.org
CLASS:PUBLIC
END:VEVENT
END:VCALENDAR
