BEGIN:VCALENDAR
PRODID:-//AT Content Types//AT Event//EN
VERSION:1.0
BEGIN:VEVENT
DTSTART:20180223T130000Z
DTEND:20180225T220000Z
DCREATED:20170830T153028Z
UID:ATEvent-d13bb680fca749d9bdda74afc9f81c92
SEQUENCE:0
LAST-MODIFIED:20170830T153028Z
SUMMARY:IHSA
LOCATION:FENCE Equestrian Side
PRIORITY:3
TRANSP:0
END:VEVENT
END:VCALENDAR
