BEGIN:VCALENDAR
PRODID:-//AT Content Types//AT Event//EN
VERSION:1.0
BEGIN:VEVENT
DTSTART:20190223T130000Z
DTEND:20190223T220000Z
DCREATED:20181016T185602Z
UID:ATEvent-6d386497b42746c9a816d7a89aa20846
SEQUENCE:0
LAST-MODIFIED:20181016T185622Z
SUMMARY:IHSA Horse Show
LOCATION:FENCE Equestrian Side
PRIORITY:3
TRANSP:0
END:VEVENT
END:VCALENDAR
