BEGIN:VCALENDAR
PRODID:-//AT Content Types//AT Event//EN
VERSION:1.0
BEGIN:VEVENT
DTSTART:20180315T120000Z
DTEND:20180318T210000Z
DCREATED:20170830T153148Z
UID:ATEvent-6a0dbe7de5594f5abc785c704a64afeb
SEQUENCE:0
LAST-MODIFIED:20170830T153148Z
SUMMARY:IEA Zones
LOCATION:FENCE Equestrian Side
PRIORITY:3
TRANSP:0
END:VEVENT
END:VCALENDAR
