BEGIN:VCALENDAR
PRODID:-//AT Content Types//AT Event//EN
VERSION:1.0
BEGIN:VEVENT
DTSTART:20170224T130000Z
DTEND:20170225T220000Z
DCREATED:20170105T165645Z
UID:ATEvent-2f9ed2467b93465bad68c059171e2ad0
SEQUENCE:0
LAST-MODIFIED:20170105T165645Z
SUMMARY:IEA Regionals
LOCATION:FENCE Equestrian Side
PRIORITY:3
TRANSP:0
END:VEVENT
END:VCALENDAR
