BEGIN:VCALENDAR
PRODID:-//AT Content Types//AT Event//EN
VERSION:2.0
METHOD:PUBLISH
BEGIN:VEVENT
DTSTAMP:20260423T191140Z
CREATED:20181016T185721Z
UID:ATEvent-e74d5ab7792c4252b8f98a5a441c03ba
LAST-MODIFIED:20181016T193234Z
SUMMARY:IEA Regionals
DTSTART:20190224T130000Z
DTEND:20190224T220000Z
LOCATION:FENCE Equestrian Side
CATEGORIES:Horse Show
CONTACT:828-859-9021\, info@fence.org
CLASS:PUBLIC
END:VEVENT
END:VCALENDAR
