BEGIN:VCALENDAR
PRODID:-//AT Content Types//AT Event//EN
VERSION:1.0
BEGIN:VEVENT
DTSTART:20180216T130000Z
DTEND:20180217T220000Z
DCREATED:20170830T152831Z
UID:ATEvent-f7fa8d7abafb4a679fd32e9801adbf37
SEQUENCE:0
LAST-MODIFIED:20170830T152831Z
SUMMARY:IEA Regionals
LOCATION:FENCE Equestrian Side
PRIORITY:3
TRANSP:0
END:VEVENT
END:VCALENDAR
