BEGIN:VCALENDAR
PRODID:-//AT Content Types//AT Event//EN
VERSION:1.0
BEGIN:VEVENT
DTSTART:20140419T120000Z
DTEND:20140420T210000Z
DCREATED:20140103T192025Z
UID:ATEvent-46082eb7-f823-4313-b58d-09d04ef6f425
SEQUENCE:0
LAST-MODIFIED:20140103T192025Z
SUMMARY:IACBA Dog Show
PRIORITY:3
TRANSP:0
END:VEVENT
END:VCALENDAR
