BEGIN:VCALENDAR
PRODID:-//AT Content Types//AT Event//EN
VERSION:1.0
BEGIN:VEVENT
DTSTART:20240524T210000Z
DTEND:20240526T210000Z
DCREATED:20240326T135358Z
UID:ATEvent-dbb210d8d3b641b28ee8badd34f7c45b
SEQUENCE:0
LAST-MODIFIED:20240513T142824Z
SUMMARY:Hunting Country Schooling
DESCRIPTION:Jumpers and Hunter Derby + Dressage Ring
LOCATION:FENCE Equestrian Side
PRIORITY:3
TRANSP:0
END:VEVENT
END:VCALENDAR
