BEGIN:VCALENDAR
PRODID:-//AT Content Types//AT Event//EN
VERSION:1.0
BEGIN:VEVENT
DTSTART:20240120T150000Z
DTEND:20240120T220000Z
DCREATED:20240104T204020Z
UID:ATEvent-b60286a91393420083c0fd2bf73caa30
SEQUENCE:0
LAST-MODIFIED:20240104T204252Z
SUMMARY:Hunting Country Schooling Days
LOCATION:FENCE Equestrian Side
PRIORITY:3
TRANSP:0
END:VEVENT
END:VCALENDAR
