BEGIN:VCALENDAR
PRODID:-//AT Content Types//AT Event//EN
VERSION:1.0
BEGIN:VEVENT
DTSTART:20240309T130000Z
DTEND:20240310T210000Z
DCREATED:20240104T204702Z
UID:ATEvent-0bf6f0b66456498ebef44e8683cfb65b
SEQUENCE:0
LAST-MODIFIED:20240105T163729Z
SUMMARY:Hunting Country Schooling Days
DESCRIPTION:Hunter Derby Anti - Hysteria
LOCATION:FENCE Equestrian Side
PRIORITY:3
TRANSP:0
END:VEVENT
END:VCALENDAR
