BEGIN:VCALENDAR
PRODID:-//AT Content Types//AT Event//EN
VERSION:2.0
METHOD:PUBLISH
BEGIN:VEVENT
DTSTAMP:20260423T105728Z
CREATED:20240104T204219Z
UID:ATEvent-0c06985e7b03414488c79933d6305e4a
LAST-MODIFIED:20240104T204219Z
SUMMARY:Hunting Country Schooling Days
DTSTART:20240203T150000Z
DTEND:20240203T220000Z
DESCRIPTION:Jumpers
LOCATION:FENCE Equestrian Side
CATEGORIES:Horse Show
CONTACT:Suzanne & Mark Feagan\, 828-817-0549
CLASS:PUBLIC
END:VEVENT
END:VCALENDAR
