BEGIN:VCALENDAR
PRODID:-//AT Content Types//AT Event//EN
VERSION:1.0
BEGIN:VEVENT
DTSTART:20241102T140000Z
DTEND:20241102T210000Z
DCREATED:20240326T143141Z
UID:ATEvent-a633f4e7b5e24b95b4ef9d49f4b7af1d
SEQUENCE:0
LAST-MODIFIED:20241030T181055Z
SUMMARY:Carolina Schooling
LOCATION:FENCE Equestrian Side
PRIORITY:3
TRANSP:0
END:VEVENT
END:VCALENDAR
