BEGIN:VCALENDAR
PRODID:-//AT Content Types//AT Event//EN
VERSION:1.0
BEGIN:VEVENT
DTSTART:20240829T210000Z
DTEND:20240901T210000Z
DCREATED:20240326T141815Z
UID:ATEvent-84e0333590a74c1db370f91f2acabcf1
SEQUENCE:0
LAST-MODIFIED:20240513T144104Z
SUMMARY:Hunting Country Schooling
DESCRIPTION:Jumper - Equitation - Dressage
LOCATION:FENCE Equestrian SIde
PRIORITY:3
TRANSP:0
END:VEVENT
END:VCALENDAR
