BEGIN:VCALENDAR
PRODID:-//AT Content Types//AT Event//EN
VERSION:2.0
METHOD:PUBLISH
BEGIN:VEVENT
DTSTAMP:20260423T115636Z
CREATED:20240326T141344Z
UID:ATEvent-eb4fe4e1984749e89472034d692e7a27
LAST-MODIFIED:20240513T143742Z
SUMMARY:Hunting Country Schooling
DTSTART:20240816T210000Z
DTEND:20240818T210000Z
DESCRIPTION:Jumper - Hunter - Dressage
LOCATION:FENCE Equestrian SIde
CATEGORIES:Horse Show
CONTACT:Suzanne & Mark Feagan\, 828-817-0549
CLASS:PUBLIC
END:VEVENT
END:VCALENDAR
