BEGIN:VCALENDAR
PRODID:-//AT Content Types//AT Event//EN
VERSION:1.0
BEGIN:VEVENT
DTSTART:20240621T210000Z
DTEND:20240623T210000Z
DCREATED:20240326T135714Z
UID:ATEvent-53f37e8f45784bdab7c961e02bab039f
SEQUENCE:0
LAST-MODIFIED:20240513T143323Z
SUMMARY:Hunting Country Schooling
DESCRIPTION:Jumper - Equitation - Dressage
LOCATION:FENCE Equestrian Side
PRIORITY:3
TRANSP:0
END:VEVENT
END:VCALENDAR
