BEGIN:VCALENDAR
PRODID:-//AT Content Types//AT Event//EN
VERSION:2.0
METHOD:PUBLISH
BEGIN:VEVENT
DTSTAMP:20260423T105029Z
CREATED:20121210T204118Z
UID:ATEvent-b00f24f2-a6fa-458e-ae8e-59fc7daef044
LAST-MODIFIED:20140123T190030Z
SUMMARY:Hunter Pace
DTSTART:20140202T143000Z
DTEND:20140202T190000Z
DESCRIPTION:Come ride the beautiful FETA trails on the next FENCE Hunt
 er Pace\, one of the Western Carolina Hunter Pace series.  Foothills M
 ountain BBQ will have lunches and drinks for sale.
LOCATION:FENCE EQ
CATEGORIES:Horse Show
CONTACT:Tracie Hanson\, 828-859-9021\, horseshow@fence.org
CLASS:PUBLIC
END:VEVENT
END:VCALENDAR
