BEGIN:VCALENDAR
PRODID:-//AT Content Types//AT Event//EN
VERSION:2.0
METHOD:PUBLISH
BEGIN:VEVENT
DTSTAMP:20260423T105426Z
CREATED:20181016T195630Z
UID:ATEvent-a6a6eeae6cf14a25a4a8e24c7005cb0e
LAST-MODIFIED:20181016T195631Z
SUMMARY:Hunter Pace at Walnut Creek
DTSTART:20190519T120000Z
DTEND:20190519T210000Z
CATEGORIES:Horse Show
CONTACT:Tracie Hanson\, 828-859-9021\, info@fence.org
CLASS:PUBLIC
END:VEVENT
END:VCALENDAR
