BEGIN:VCALENDAR
PRODID:-//AT Content Types//AT Event//EN
VERSION:1.0
BEGIN:VEVENT
DTSTART:20191110T140000Z
DTEND:20191110T190000Z
DCREATED:20190123T203810Z
UID:ATEvent-d1b6c150b26b48b6874d3967799a48d2
SEQUENCE:0
LAST-MODIFIED:20190123T203810Z
SUMMARY:Hunter Pace at FENCE
LOCATION:FENCE Equestrian Side
PRIORITY:3
TRANSP:0
END:VEVENT
END:VCALENDAR
