BEGIN:VCALENDAR
PRODID:-//AT Content Types//AT Event//EN
VERSION:2.0
METHOD:PUBLISH
BEGIN:VEVENT
DTSTAMP:20260423T142313Z
CREATED:20130805T133635Z
UID:ATEvent-8d9e4e3f-5db1-45d6-b536-14c86b8a7d17
LAST-MODIFIED:20130826T150332Z
SUMMARY:Postponed Hunter Pace to Sept 8
DTSTART:20130901T130000Z
DTEND:20130901T190000Z
DESCRIPTION:The Friends of FENCE are sponsoring a fundraising Hunter P
 ace and FENCE Fair at the FENCE Equestrian Grounds.   The Hunter Pace 
 will start at 9am and features a new route through beautiful countrysi
 de that is normally closed to the public. A great lunch will be served
 .
LOCATION:FENCE EQ side
CATEGORIES:Clinic
CONTACT:Judith Kerns\, 828-859-5456
CLASS:PUBLIC
END:VEVENT
END:VCALENDAR
