BEGIN:VCALENDAR
PRODID:-//AT Content Types//AT Event//EN
VERSION:2.0
METHOD:PUBLISH
BEGIN:VEVENT
DTSTAMP:20260423T105034Z
CREATED:20250619T160245Z
UID:ATEvent-63319e48ed4c4d7b94a7da52416d72cb
LAST-MODIFIED:20251031T131054Z
SUMMARY:Hunter Pace
DTSTART:20251109T130000Z
DTEND:20251109T210000Z
CATEGORIES:Horse Show
CONTACT:info@fence.org
CLASS:PUBLIC
END:VEVENT
END:VCALENDAR
