BEGIN:VCALENDAR
PRODID:-//AT Content Types//AT Event//EN
VERSION:2.0
METHOD:PUBLISH
BEGIN:VEVENT
DTSTAMP:20260423T143736Z
CREATED:20230928T181758Z
UID:ATEvent-9a5d67ee8bbf4c27958f1e8d378570aa
LAST-MODIFIED:20240501T184449Z
SUMMARY:Hunter Pace
DTSTART:20240512T130000Z
DTEND:20240512T190000Z
DESCRIPTION:Fence Spring Hunter Pace\nSunday\, May 12\, 2024\n9:00 AM 
 – 2:00 PM\nRegistration opens at 8:30 AM\n\n 3381 Hunting Country Rd
 \, Tryon\, NC/EQ Grounds\n\nEntry Fee: $40 per rider\, $25 for Childre
 n 12 & Under\nIncludes Lunch from Foothills BBQ\n\nDivisions: Field Hu
 nter and Trail Rider  \nProtective Headgear Required & Current negativ
 e coggins\n\nAwards: 1st – 6th Place ribbons in both divisions\n\nFE
 NCE – 828-859-9021\nwww.fence.org   www.wchpace.org\nNO Rain date
LOCATION:FENCE Equestrian Side
CATEGORIES:Horse Show
CONTACT:Tracie Hanson\, 8288599021\, info@fence.org
CLASS:PUBLIC
END:VEVENT
END:VCALENDAR
